BEGIN:VCALENDAR
VERSION:2.0
PRODID:icalendar-ruby
CALSCALE:GREGORIAN
METHOD:PUBLISH
BEGIN:VEVENT
DTSTAMP:20260423T142517Z
UID:463-646163@unityofwimberley.com
DTSTART:20260503T180000Z
DTEND:20260503T183000Z
CLASS:PUBLIC
CREATED:20260422T133301
DESCRIPTION:World Labyrinth Day is a "Walk for World Peace" and is celebrat
 ed across the world the weekend of May 1-3 with many churches celebrating 
 Sunday\, May 3. It is also our day for Potluck\, so let's gather for potlu
 ck and then walk the labyrinth with a prayer for world peace. We will have
  finger labyrinths for those who do not wish to physically walk the labyri
 nth. 
LAST-MODIFIED:20260422T133301
LOCATION:
SUMMARY:Walk for Peace
URL;VALUE=URI:https://www.unityofwimberley.com/events/walk-for-peace/2026-0
 5-03
ATTACH;FILENAME=World-Labyrinth-Day.png.png;FMTTYPE=image/png:https://dq5pw
 pg1q8ru0.cloudfront.net/2026/04/22/18/33/01/8d1fbb01-d9ab-494c-936a-69749b
 2a1d72/World-Labyrinth-Day.png.png
END:VEVENT
END:VCALENDAR
