BEGIN:VCALENDAR
VERSION:2.0
PRODID:icalendar-ruby
CALSCALE:GREGORIAN
METHOD:PUBLISH
BEGIN:VEVENT
DTSTAMP:20260422T142957Z
UID:462-644607@unityofwimberley.com
DTSTART:20260503T155500Z
DTEND:20260503T170000Z
CLASS:PUBLIC
CREATED:20260421T161646
DESCRIPTION:Joshua Whiteland\nThrough the Labyrinth: Awakening the Mind Bey
 ond the Mind\n This talk reveals how the conscious\, subconscious\, and s
 uperconscious  mind work together to shape our reality. Like walking a la
 byrinth\, we move beyond surface thinking\, rewire old patterns\, and alig
 n with a higher intelligence within. At the center\, we discover not only 
 clarity—but our connection to the Divine\, where true transformation beg
 ins. 
LAST-MODIFIED:20260421T161646
LOCATION:
SUMMARY:Sunday Service\, May 3\, 2026
URL;VALUE=URI:https://www.unityofwimberley.com/events/sunday-service-may-3-
 2026/2026-05-03
ATTACH;FILENAME=Joshua-5-3-26-web.png;FMTTYPE=image/png:https://dq5pwpg1q8r
 u0.cloudfront.net/2026/04/21/21/16/46/630108e9-e209-4774-8c06-1204c02dd01d
 /Joshua-5-3-26-web.png
END:VEVENT
END:VCALENDAR
