BEGIN:VCALENDAR
VERSION:2.0
PRODID:icalendar-ruby
CALSCALE:GREGORIAN
METHOD:PUBLISH
BEGIN:VEVENT
DTSTAMP:20260423T170637Z
UID:466-646807@unityofwimberley.com
DTSTART:20260517T155500Z
DTEND:20260517T170000Z
CLASS:PUBLIC
CREATED:20260422T190821
DESCRIPTION:
LAST-MODIFIED:20260422T190821
LOCATION:
SUMMARY:Sunday\, May 17\, 2026
URL;VALUE=URI:https://www.unityofwimberley.com/events/sunday-may-17-2026/20
 26-05-17
ATTACH;FILENAME=Stacy-Collins-5-10-26.png;FMTTYPE=image/png:https://dq5pwpg
 1q8ru0.cloudfront.net/2026/04/23/00/08/21/a9b8b5a4-2e75-44de-aa4c-4d1af714
 43c4/Stacy-Collins-5-10-26.png
END:VEVENT
END:VCALENDAR
