BEGIN:VCALENDAR
VERSION:2.0
PRODID:icalendar-ruby
CALSCALE:GREGORIAN
METHOD:PUBLISH
BEGIN:VEVENT
DTSTAMP:20260423T141357Z
UID:465-646778@unityofwimberley.com
DTSTART:20260510T155500Z
DTEND:20260510T170000Z
CLASS:PUBLIC
CREATED:20260422T190550
DESCRIPTION:
LAST-MODIFIED:20260422T190550
LOCATION:
SUMMARY:Sunday\, May 10\, 2026
URL;VALUE=URI:https://www.unityofwimberley.com/events/sunday-may-10-2026/20
 26-05-10
ATTACH;FILENAME=Mary-Grace-5-10-26.png;FMTTYPE=image/png:https://dq5pwpg1q8
 ru0.cloudfront.net/2026/04/23/00/05/50/45d12b8c-441b-4385-b9c6-0037291c568
 c/Mary-Grace-5-10-26.png
END:VEVENT
END:VCALENDAR
