BEGIN:VCALENDAR
VERSION:2.0
PRODID:icalendar-ruby
CALSCALE:GREGORIAN
METHOD:PUBLISH
BEGIN:VEVENT
DTSTAMP:20260423T171107Z
UID:461-644637@unityofwimberley.com
DTSTART:20260530T150000Z
DTEND:20260530T170000Z
CLASS:PUBLIC
CREATED:20260421T163217
DESCRIPTION:This workshop is focused to help you become more fluent in the 
 language of the body. You will leave with an appreciation for how and why 
 your body talks to you and discern what it’s telling you.\n\nThrough gui
 ded breath work\, mindful practices\, hands-on activities\, gentle movemen
 t\, touch\, imagery\, sensory exercises\, experiential anatomy\, targeted 
 massage and stretches\, you’ll learn how to respond to your body’s sig
 nals as you reconnect with the amazing wisdom of your body.\n\nMake sure t
 o wear comfortable clothes and bring note-taking materials. \n\nSee you t
 here!
LAST-MODIFIED:20260421T163217
LOCATION:Unity of Wimberley\, 455 White Wings Rd\, Wimberley\, TX
SUMMARY:Somatic Intelligence Workshop 
URL;VALUE=URI:https://www.unityofwimberley.com/events/somatic-intelligence-
 workshop/2026-05-30
ATTACH;FILENAME=Linda-Hancock-Somatic-Intelligence-Workshop-v2.png;FMTTYPE=
 image/png:https://dq5pwpg1q8ru0.cloudfront.net/2026/04/21/16/48/22/4d2534d
 d-cb46-4819-8909-da2f37f35e12/Linda-Hancock-Somatic-Intelligence-Workshop-
 v2.png
END:VEVENT
END:VCALENDAR
