BEGIN:VCALENDAR
VERSION:2.0
PRODID:icalendar-ruby
CALSCALE:GREGORIAN
METHOD:PUBLISH
BEGIN:VEVENT
DTSTAMP:20260423T170934Z
UID:458-644636@unityofwimberley.com
DTSTART:20260516T130000Z
DTEND:20260516T150000Z
CLASS:PUBLIC
CREATED:20260421T162409
DESCRIPTION:Scott Price has generously offered to do another gardening clas
 s on May 16th at his home from 8am -10am. We ar meeting early to beat the 
 heat! This seminar will be all about how to set up your garden for success
  as we move into the heat of Summer. In addition\, there will be 10-12 bal
 es organic hay in my garage available for $20 each for anyone interested i
 n one.
LAST-MODIFIED:20260421T162409
LOCATION:
SUMMARY:Setting Up Your Garden for Success Class
URL;VALUE=URI:https://www.unityofwimberley.com/events/setting-up-your-garde
 n-for-success-class/2026-05-16
ATTACH;FILENAME=SPrice_SYS_Gardening_5-16-26.png;FMTTYPE=image/png:https://
 dq5pwpg1q8ru0.cloudfront.net/2026/04/13/19/09/02/38a3d4b8-9945-469e-b434-9
 c1df1be309b/SPrice_SYS_Gardening_5-16-26.png
END:VEVENT
END:VCALENDAR
