BEGIN:VCALENDAR
VERSION:2.0
PRODID:icalendar-ruby
CALSCALE:GREGORIAN
METHOD:PUBLISH
BEGIN:VEVENT
DTSTAMP:20260423T171101Z
UID:464-646165@unityofwimberley.com
DTSTART:20260628T000000Z
DTEND:20260628T020000Z
CLASS:PUBLIC
CREATED:20260422T133711
DESCRIPTION:SAVE THE DATE!\nMORE INFO SOON!
LAST-MODIFIED:20260422T133711
LOCATION:
SUMMARY:Julie and Curtis on a Saturday Night! Concert
URL;VALUE=URI:https://www.unityofwimberley.com/events/julie-and-curtis-on-a
 -saturday-night-concert/2026-06-27
ATTACH;FILENAME=Untitled-2-Julie_Curtis_LiveConcert_2026.png;FMTTYPE=image/
 png:https://dq5pwpg1q8ru0.cloudfront.net/2026/04/22/18/36/18/f13f920e-29a2
 -4ad3-9607-83789a4588b9/Untitled-2-Julie_Curtis_LiveConcert_2026.png
END:VEVENT
END:VCALENDAR
